BEGIN:VCALENDAR
VERSION:2.0
PRODID:-//SPT Flevoland - ECPv6.15.20//NONSGML v1.0//EN
CALSCALE:GREGORIAN
METHOD:PUBLISH
X-ORIGINAL-URL:https://sptflevoland.nl
X-WR-CALDESC:Evenementen voor SPT Flevoland
REFRESH-INTERVAL;VALUE=DURATION:PT1H
X-Robots-Tag:noindex
X-PUBLISHED-TTL:PT1H
BEGIN:VTIMEZONE
TZID:UTC
BEGIN:STANDARD
TZOFFSETFROM:+0000
TZOFFSETTO:+0000
TZNAME:UTC
DTSTART:20250101T000000
END:STANDARD
END:VTIMEZONE
BEGIN:VEVENT
DTSTART;TZID=UTC:20260423T120000
DTEND;TZID=UTC:20260423T153000
DTSTAMP:20260423T095442
CREATED:20260331T170020Z
LAST-MODIFIED:20260331T170332Z
UID:163637-1776945600-1776958200@sptflevoland.nl
SUMMARY:Inspiratiesessie zij-instromers - voor werkgevers
DESCRIPTION:Kom naar de inspiratiesessie over werken met zij-instromers. De technische sector in Flevoland staat voor grote uitdagingen: een structureel tekort aan vakmensen\, een teruglopende instroom vanuit het onderwijs en een toenemende vergrijzing. Tegelijkertijd is er een grote\, vaak onbenutte groep gemotiveerde mensen die graag de overstap naar de techniek wil maken. \nDennis van der Mey neemt je tijdens deze inspiratiesessie mee in de veranderende economie\, verduurzaming\, vergrijzing en de noodzaak van andere manieren van werven. Een prikkelend betoog dat aanzet tot denken én doen! Daarnaast gaan we met elkaar in gesprek\, bespreken concrete voorbeelden en verkennen samen hoe zij-instroom in de praktijk kan werken voor jouw bedrijf. \nAan het eind van de sessie: \n\nheb je inspiratie opgedaan over het vinden van personeel\nheb je handvatten voor het inzetten van zij-instromers\nweet je hoe Servicepunt Techniek Flevoland (SPT Flevoland) jou hierbij kan helpen.\n\nWaarom je dit niet wilt missen: \n\nInzicht in kansen en mogelijkheden van zij-instroom voor jouw bedrijf.\nKennismaking met instrumenten en tools\, zoals de aanbodkrant\, speeddates en het technische oriëntatietraject.\nCollega-bedrijven ontmoeten die al met zij-instromers werken\, delen positieve ervaringen.\nDe mogelijkheid om leerwerkplekken en vacatures onder de aandacht te brengen.\nDirect contact met andere ondernemers en betrokken partners in de regio.\n\nMeld je aan!
URL:https://sptflevoland.nl/evenementen/inspiratiesessie-werkgevers-almere-lelystad/
LOCATION:Almere City FC\, Competitieweg 1\, Almere
ATTACH;FMTTYPE=image/jpeg:https://sptflevoland.nl/wp-content/uploads/2026/03/qimono-light-bulbs-1875384-scaled.jpg
END:VEVENT
END:VCALENDAR