BEGIN:VCALENDAR
VERSION:2.0
PRODID:-//SPT Flevoland - ECPv6.15.20//NONSGML v1.0//EN
CALSCALE:GREGORIAN
METHOD:PUBLISH
X-ORIGINAL-URL:https://sptflevoland.nl
X-WR-CALDESC:Evenementen voor SPT Flevoland
REFRESH-INTERVAL;VALUE=DURATION:PT1H
X-Robots-Tag:noindex
X-PUBLISHED-TTL:PT1H
BEGIN:VTIMEZONE
TZID:UTC
BEGIN:STANDARD
TZOFFSETFROM:+0000
TZOFFSETTO:+0000
TZNAME:UTC
DTSTART:20250101T000000
END:STANDARD
END:VTIMEZONE
BEGIN:VEVENT
DTSTART;TZID=UTC:20260530T090000
DTEND;TZID=UTC:20260530T130000
DTSTAMP:20260423T110631
CREATED:20260331T164630Z
LAST-MODIFIED:20260331T164836Z
UID:163627-1780131600-1780146000@sptflevoland.nl
SUMMARY:Banenbeurs Lelystad - meld je bedrijf aan
DESCRIPTION:Werkbedrijf Lelystad en UWV nodigen je graag uit voor de grootste banenbeurs van Lelystad. In 2025 waren er 1700 bezoekers! \nDit is dus dé kans om nieuwe medewerkers te ontmoeten. Deelname aan banenbeurs is geheel kosteloos. \nEr is plek voor 100 ondernemers\, dus zorg dat je niks mist en meld je op tijd aan!
URL:https://sptflevoland.nl/evenementen/banenbeurs-lelystad-meld-je-bedrijf-aan/
LOCATION:Stadhuis Lelystad\, Stadhuisplein 2\, Lelystad
ATTACH;FMTTYPE=image/png:https://sptflevoland.nl/wp-content/uploads/2026/03/Schermafbeelding-2026-03-31-184757.png
END:VEVENT
END:VCALENDAR